BEGIN:VCALENDAR
VERSION:2.0
PRODID:-//Stuttgarter Schriftstellerhaus - ECPv6.15.20//NONSGML v1.0//EN
CALSCALE:GREGORIAN
METHOD:PUBLISH
X-WR-CALNAME:Stuttgarter Schriftstellerhaus
X-ORIGINAL-URL:https://stuttgarter-schriftstellerhaus.de
X-WR-CALDESC:Veranstaltungen für Stuttgarter Schriftstellerhaus
REFRESH-INTERVAL;VALUE=DURATION:PT1H
X-Robots-Tag:noindex
X-PUBLISHED-TTL:PT1H
BEGIN:VTIMEZONE
TZID:Europe/Berlin
BEGIN:DAYLIGHT
TZOFFSETFROM:+0100
TZOFFSETTO:+0200
TZNAME:CEST
DTSTART:20220327T010000
END:DAYLIGHT
BEGIN:STANDARD
TZOFFSETFROM:+0200
TZOFFSETTO:+0100
TZNAME:CET
DTSTART:20221030T010000
END:STANDARD
BEGIN:DAYLIGHT
TZOFFSETFROM:+0100
TZOFFSETTO:+0200
TZNAME:CEST
DTSTART:20230326T010000
END:DAYLIGHT
BEGIN:STANDARD
TZOFFSETFROM:+0200
TZOFFSETTO:+0100
TZNAME:CET
DTSTART:20231029T010000
END:STANDARD
BEGIN:DAYLIGHT
TZOFFSETFROM:+0100
TZOFFSETTO:+0200
TZNAME:CEST
DTSTART:20240331T010000
END:DAYLIGHT
BEGIN:STANDARD
TZOFFSETFROM:+0200
TZOFFSETTO:+0100
TZNAME:CET
DTSTART:20241027T010000
END:STANDARD
END:VTIMEZONE
BEGIN:VEVENT
DTSTART;TZID=Europe/Berlin:20230412T190000
DTEND;TZID=Europe/Berlin:20230412T210000
DTSTAMP:20260426T054117
CREATED:20230316T153240Z
LAST-MODIFIED:20230316T153240Z
UID:14667-1681326000-1681333200@stuttgarter-schriftstellerhaus.de
SUMMARY:Schreibgruppe Band 2
DESCRIPTION:Die offene Schreibgruppe Band 2 ist offen für neue Interessent:innen.\nBitte telefonisch unter 0711-233554 anmelden.
URL:https://stuttgarter-schriftstellerhaus.de/termin/schreibgruppe-band-2-108/
LOCATION:Stuttgarter Schriftstellerhaus\, Kanalstraße 4\, Stuttgart\, 70182
CATEGORIES:Öffentlich
ORGANIZER;CN="Stuttgarter Schriftstellerhaus":MAILTO:info@stuttgarter-schriftstellerhaus.de
END:VEVENT
BEGIN:VEVENT
DTSTART;TZID=Europe/Berlin:20230413T193000
DTEND;TZID=Europe/Berlin:20230413T210000
DTSTAMP:20260426T054117
CREATED:20230331T152312Z
LAST-MODIFIED:20230412T131751Z
UID:14727-1681414200-1681419600@stuttgarter-schriftstellerhaus.de
SUMMARY:Forum der Autor:innen: Zu Gast: Theres Essmann
DESCRIPTION:Theres Essmann @ privat\nDas Forum der Autor:innen mit Theres Essmann musste wegen des Bahnstreiks verschoben werden auf den 13. April. \nUnser Gast\, die Autorin und Schreibwerkstättenleiterin Theres Essmann stellt ihren zweiten Roman vor\, in einem Schweizer Verlag erscheinen wird. Arbeitstitel: „Dünnes Eis“ \nZum Inhalt:\nWie ist es\, 99 Jahre alt zu sein und alle überlebt zu haben? Wenn jeder Morgen sich anfühlt wie eine Zugabe. Wenn die Erinnerungen lebendiger sind als die Gegenwart. Und wenn über dem\, was Krieg und Flucht hinterlassen haben\, bis zum Schluss nur eine hauchdünne Eisschicht liegt.\n„Dünnes Eis“ ist die Geschichte der Marietta Stein\, die 99-jährig in der „Resi“ lebt\, der „Alters-Residenz mit Herz“\, und die alle\, die ihr einmal nah standen\, überlebt hat. In der Freundschaft mit Enis\, einem syrischen Flüchtlingsjungen aus den Wohncontainern gegenüber\, und in den Gesprächen mit ihrem todkranken Flurnachbarn Tacke\, auch „Hitler-Bärtchen“ genannt\, begegnet sie erneut all dem\, was sie geliebt hat und was sie verloren hat durch Flucht und Krieg. Bis sie schließlich erkennt\, was sie ein Leben lang vor sich selbst verborgen hielt.
URL:https://stuttgarter-schriftstellerhaus.de/termin/forum-der-autorinnen-zu-gast-theres-essmann/
CATEGORIES:Öffentlich
END:VEVENT
BEGIN:VEVENT
DTSTART;TZID=Europe/Berlin:20230415T100000
DTEND;TZID=Europe/Berlin:20230415T180000
DTSTAMP:20260426T054117
CREATED:20221207T163545Z
LAST-MODIFIED:20230403T122839Z
UID:14193-1681552800-1681581600@stuttgarter-schriftstellerhaus.de
SUMMARY:Optimal texten: Pitch und Exposé für Ihr Romanprojekt (Seminar mit Wolfgang Tischer)
DESCRIPTION:Wegen weiterer Absagen muss das Seminar leider leider nochmals abgesagt werden\, es gibt derzeit keinen Ersatztermin. \nFalls wieder ein thematisch vergleichbares Seminar angeboten wird\, erfahren Sie das auf unserer Website.\nFalls noch nicht geschehen\, melden Sie sich doch für unseren Newsletter an.  \n„Worum geht es denn in Ihrem Roman?“ Auf diese Frage sollen Sie eine kurze\, knackige Antwort parat haben\, die den Inhalt umreißt und Neugier auf den Text erzeugt. Man nennt sie Pitch\, und die Frage kann Ihnen ein Verleger oder die Nachbarin stellen.\nDas Exposé hingegen ist eine ausführliche Beschreibung ihres Romanprojekts\, die sich in erster Linie an Verlage oder Literaturagenturen richtet.\nIn diesem Tagesseminar analysieren wir\, was einen guten Pitch und ein gutes Exposé ausmachen. Gemeinsam schauen wir uns Pitch und Exposé der Teilnehmenden an und feilen an den Inhalten. \nSeminarleitung: Wolfgang Tischer\, literaturcafe.de\nTeilnahmevoraussetzungen: Sie sollten an einem konkreten Romanprojekt arbeiten und sich mit Ihrem Pitch für dieses Seminar bewerben. Dieser Pitch muss noch nicht perfekt sein. Zum Seminar selbst sollten Sie dann auch ein Exposé fertig haben\, über das wir sprechen können. \nZahl der Teilnehmenden: 5-10\nKosten: 129 Euro / 109 Euro für Mitglieder\nAnmeldung bis zum 3. April 2023 unter info@stuttgarter-schriftstellerhaus.de – bis 10.04.2023 Nachricht\, ob Sie dabei sind.\nBeschreiben Sie bei der Anmeldung kurz Ihr Romanprojekt. Danke. \nBitte beachten: Das Seminar behandelt Romanprojekte (Belletristik). Kein Sach- und Fachbuch\, kein Kinder- und Jugendbuch.
URL:https://stuttgarter-schriftstellerhaus.de/termin/wolfgang-tischer-optimal-texten-pitch-und-exposee-fuer-ihr-romanprojekt-seminar/
LOCATION:Stuttgarter Schriftstellerhaus\, Kanalstraße 4\, Stuttgart\, 70182
CATEGORIES:Öffentlich
ATTACH;FMTTYPE=image/jpeg:https://stuttgarter-schriftstellerhaus.de/wp-content/uploads/2019/05/Tischer-2.jpg
ORGANIZER;CN="Stuttgarter Schriftstellerhaus":MAILTO:info@stuttgarter-schriftstellerhaus.de
END:VEVENT
BEGIN:VEVENT
DTSTART;TZID=Europe/Berlin:20230417T180000
DTEND;TZID=Europe/Berlin:20230417T200000
DTSTAMP:20260426T054117
CREATED:20230227T161953Z
LAST-MODIFIED:20230424T130728Z
UID:14608-1681754400-1681761600@stuttgarter-schriftstellerhaus.de
SUMMARY:Schreibtisch - der Treffpunkt für Jungautor:innen in Stuttgart
DESCRIPTION:„Du bist zwischen 15 und 25 Jahre alt und schreibst? – dann herzlich willkommen beim „Schreibtisch“\, dem Treff für Jungautor:innen im Raum Stuttgart. \nWir treffen uns wie immer montags\, dieses Mal am 22. Mai ab 18:00 Uhr im Stuttgarter Schriftstellerhaus (Kanalstraße 4\, 70182 Stuttgart\, direkt am Charlottenplatz) und würden uns freuen\, wenn auch Du dabei bist. \nDu kannst gerne einfach spontan vorbeischauen\, eine Anmeldung vorab ist nicht notwendig. Bei Fragen kannst du dich einfach an Robin (rob_ack@gmx.de) wenden. \nDich erwarten: \n✅ Austausch über Dein Kreatives Schreiben (Lyrik\, Prosa\,… – alles willkommen) und Literatur im Allgemeinen mit anderen Schreibenden\n✅ Eine entspannte Atmosphäre\n✅ Tee\, Kaffee und kleine Snacks \nKlingt gut? Dann komm‘ gerne vorbei – Wir freuen uns schon darauf\, Dich kennenzulernen!“ \n 
URL:https://stuttgarter-schriftstellerhaus.de/termin/schreibtisch-der-treffpunkt-fuer-jungautorinnen-in-stuttgart-4/
LOCATION:Stuttgarter Schriftstellerhaus\, Kanalstraße 4\, Stuttgart\, 70182
CATEGORIES:Öffentlich
ATTACH;FMTTYPE=image/jpeg:https://stuttgarter-schriftstellerhaus.de/wp-content/uploads/2015/06/Flyer-JSH-rotated.jpg
ORGANIZER;CN="Stuttgarter Schriftstellerhaus":MAILTO:info@stuttgarter-schriftstellerhaus.de
END:VEVENT
BEGIN:VEVENT
DTSTART;TZID=Europe/Berlin:20230419T190000
DTEND;TZID=Europe/Berlin:20230419T210000
DTSTAMP:20260426T054117
CREATED:20230316T154616Z
LAST-MODIFIED:20230321T103344Z
UID:14677-1681930800-1681938000@stuttgarter-schriftstellerhaus.de
SUMMARY:AG wortreich
DESCRIPTION:Im Oktober 2022 haben Mitglieder vom Stuttgarter Schriftstellerhaus eine neue Autor:innengruppe gegründet: AG wortreich.\nIm Zentrum steht die intensive Arbeit an eigenen Prosatexten. Die Gruppe trifft sich jeden dritten Mittwoch im Monat um 19 Uhr.\nDerzeit ist die maximale Gruppengröße erreicht. Interessierte werden auf die Warteliste gesetzt.\nBewerber:innen stellen sich der Gruppe mit einem eigenen Prosatext vor\, die Gruppe entscheidet über eine Aufnahme.\nEine Mitgliedschaft im Schriftstellerhaus ist obligatorisch. \nKontakt: Hans Martin Thill\, hamati38@web.de \n 
URL:https://stuttgarter-schriftstellerhaus.de/termin/ag-wortreich-4/
LOCATION:Stuttgarter Schriftstellerhaus\, Kanalstraße 4\, Stuttgart\, 70182
CATEGORIES:Intern
ATTACH;FMTTYPE=image/png:https://stuttgarter-schriftstellerhaus.de/wp-content/uploads/2019/08/hintergrund-footer-dreiecke.png
ORGANIZER;CN="Stuttgarter Schriftstellerhaus":MAILTO:info@stuttgarter-schriftstellerhaus.de
END:VEVENT
BEGIN:VEVENT
DTSTART;TZID=Europe/Berlin:20230420T180000
DTEND;TZID=Europe/Berlin:20230420T200000
DTSTAMP:20260426T054117
CREATED:20230316T164940Z
LAST-MODIFIED:20230316T164940Z
UID:14681-1682013600-1682020800@stuttgarter-schriftstellerhaus.de
SUMMARY:Das Junge Schriftstellerhaus
DESCRIPTION:Die neuen Mitglieder der Schreibwerkstatt 2022-2023 sind auf einige Teilnehmer:innen aus vorhergehenden Jahrgängen getroffen\, um gemeinsam das künstlerische Handwerk des literarischen Schreibens im Austausch mit Gleichgesinnten und unter der Leitung von Moritz Heger und Regina Rechsteiner weiter zu erlernen bzw. ihre Fertigkeiten  zu vertiefen. \nDas Junge Schriftstellerhaus wird vom Kulturamt der Stadt Stuttgart gefördert.
URL:https://stuttgarter-schriftstellerhaus.de/termin/das-junge-schriftstellerhaus-23/
LOCATION:Stuttgarter Schriftstellerhaus\, Kanalstraße 4\, Stuttgart\, 70182
CATEGORIES:Intern
ATTACH;FMTTYPE=image/jpeg:https://stuttgarter-schriftstellerhaus.de/wp-content/uploads/2023/03/JSH-Okt-2022-rotated.jpg
ORGANIZER;CN="Stuttgarter Schriftstellerhaus":MAILTO:info@stuttgarter-schriftstellerhaus.de
END:VEVENT
BEGIN:VEVENT
DTSTART;TZID=Europe/Berlin:20230421T200000
DTEND;TZID=Europe/Berlin:20230421T213000
DTSTAMP:20260426T054117
CREATED:20230411T095035Z
LAST-MODIFIED:20230411T095035Z
UID:14745-1682107200-1682112600@stuttgarter-schriftstellerhaus.de
SUMMARY:Gilbert Fels: "Der Gebrauch von Gärten"
DESCRIPTION:Der Gebrauch von Gärten\, das ist eine einzige Liebeserklärung an Gärten\, eine »Lyrikerzählung«\, die erzählerische wie dichterische Passagen zu einem überaus reizvollen »Wörtergarten« verbindet. Gilbert Fels beschreibt Gärten als Kraftquellen\, als Sehnsuchtsorte\, höchst verletzlich\, auf die es aufzupassen gilt. Es geht ihm um die verlorenen Gärten der Kindheit\, um Gärten von Freunden\, auch um berühmte Gärten\, von denen die meisten ebenfalls verloren sind – in Pompeji\, auf der Reichenau\, der Garten Eden selbst. \nBeispielhaft kommen einige große Maler und Bilder »zu Wort« – Monet\, Matisse\, Max Slevogt\, Carl Larsson. Und manche Dichter und Bücher geben ihr Echo dazu – Vergil\, Rilke\, Walahfrid Strabo\, die Genesis … Alles in allem: ein faszinierendes »Gartenpanorama«\, für das Gilbert Fels eine ganz eigne lyrisch-rhythmische\, suggestiv-präzise Sprache findet. \nGilbert Fels\, 1956 in Stuttgart geboren\, Studium der Geschichte und Analytischen Philosophie in Mannheim. Seit 1983 Autor literarischer Texte\, Prosa und Lyrik. Verschiedene Stipendien\, »Der Gebrauch von Gärten« ist bei Kröner Edition Klöpfer erscheinen. \nDie Veranstaltung findet in der Buchhandlung Pörksen\, Schwabstraße 26\, 70197 Stuttgart statt.\nEintritt: frei\, aber Platzreservierungen unter 0711-626058
URL:https://stuttgarter-schriftstellerhaus.de/termin/gilbert-fels-der-gebrauch-von-gaerten/
CATEGORIES:Öffentlich extern
END:VEVENT
BEGIN:VEVENT
DTSTART;TZID=Europe/Berlin:20230422T110000
DTEND;TZID=Europe/Berlin:20230422T170000
DTSTAMP:20260426T054117
CREATED:20230320T124910Z
LAST-MODIFIED:20230411T130607Z
UID:14695-1682161200-1682182800@stuttgarter-schriftstellerhaus.de
SUMMARY:Moritz Hildt: Romanwerkstatt (digital)
DESCRIPTION:Aus seinem neuen Wohnsitz meldet sich Moritz Hildt zur weitergeführten Romanwerkstatt. \nIn der Romanwerkstatt im Stuttgarter Schriftstellerhaus treffen sich Autor:innen\, die ein eigenständiges Romanprojekt verfolgen\, im etwa zweimonatigen Rhythmus zu intensiven Werkstattgesprächen\, verbunden mit theoretischen Impulsen und gemeinsamen Diskussionen zu bestimmten Facetten des schriftstellerischen Arbeitens. Geleitet wird die Romanwerkstatt vom Tübinger Schriftsteller und Philosophen Moritz Hildt\, der bis zum letzten Jahr 2022 auch Vorstandsmitglied im Stuttgarter Schriftstellerhaus gewesen ist. \nDiese Gruppe ist bereits voll. Neue Mitwirkende können zur Zeit nicht aufgenommen werden. Sie treffen sich abwechselnd digital oder in Präsenz in Stuttgart.
URL:https://stuttgarter-schriftstellerhaus.de/termin/moritz-hildt-romanwerkstatt-digital/
LOCATION:Stuttgarter Schriftstellerhaus\, Kanalstraße 4\, Stuttgart\, 70182\, Deutschland
CATEGORIES:Intern
ORGANIZER;CN="Stuttgarter Schriftstellerhaus":MAILTO:info@stuttgarter-schriftstellerhaus.de
END:VEVENT
BEGIN:VEVENT
DTSTART;TZID=Europe/Berlin:20230429T100000
DTEND;TZID=Europe/Berlin:20230429T180000
DTSTAMP:20260426T054117
CREATED:20230320T120726Z
LAST-MODIFIED:20230320T120726Z
UID:14687-1682762400-1682791200@stuttgarter-schriftstellerhaus.de
SUMMARY:Theres Essmann: "Literarische Schreibwerkstatt" #3
DESCRIPTION:Theres Essmann\nIn dieser fortlaufenden Schreib- und Textwerkstatt wollen wir das eigene literarischen Schreiben (weiter-)entwickeln\, neue Schreiberfahrungen machen und dabei insbesondere die Resonanz der Gruppe miteinbeziehen. \nWir arbeiten an Kurzgeschichten\, Erzählungen\, Gedichten oder auch an größeren Schreib-Projekten. Dabei beschäftigen wir uns mit dem „Schreib-Handwerk“ (z.B. Erzählstimme\, Erzählperspektive\, Figurenzeichnung\, Dialogführung) und seinen Regeln genauso wie mit der Freiheit des Autors\, davon bewusst abzuweichen. Darüber hinaus wird Raum sein\, die Erfahrungen und Selbst-Begegnungen im eigenen Schreib-Prozess mit den anderen zu teilen. \nZwischen den Terminen arbeiten wir an Texten\, die ca. eine Woche vor dem darauffolgenden Termin zirkuliert und dann vor Ort gemeinsam lektoriert werden. \nLeitung: Theres Essmann\, Stuttgart\, Schriftstellerin\, Referentin für Literarisches und Kreatives Schreiben (www.theres-essmann.de)
URL:https://stuttgarter-schriftstellerhaus.de/termin/theres-essmann-literarische-schreibwerkstatt-3/
LOCATION:Stuttgarter Schriftstellerhaus\, Kanalstraße 4\, Stuttgart\, 70182
CATEGORIES:Intern
ORGANIZER;CN="Stuttgarter Schriftstellerhaus":MAILTO:info@stuttgarter-schriftstellerhaus.de
END:VEVENT
END:VCALENDAR