BEGIN:VCALENDAR
VERSION:2.0
PRODID:-//Stuttgarter Schriftstellerhaus - ECPv6.15.20//NONSGML v1.0//EN
CALSCALE:GREGORIAN
METHOD:PUBLISH
X-WR-CALNAME:Stuttgarter Schriftstellerhaus
X-ORIGINAL-URL:https://stuttgarter-schriftstellerhaus.de
X-WR-CALDESC:Veranstaltungen für Stuttgarter Schriftstellerhaus
REFRESH-INTERVAL;VALUE=DURATION:PT1H
X-Robots-Tag:noindex
X-PUBLISHED-TTL:PT1H
BEGIN:VTIMEZONE
TZID:Europe/Berlin
BEGIN:DAYLIGHT
TZOFFSETFROM:+0100
TZOFFSETTO:+0200
TZNAME:CEST
DTSTART:20220327T010000
END:DAYLIGHT
BEGIN:STANDARD
TZOFFSETFROM:+0200
TZOFFSETTO:+0100
TZNAME:CET
DTSTART:20221030T010000
END:STANDARD
BEGIN:DAYLIGHT
TZOFFSETFROM:+0100
TZOFFSETTO:+0200
TZNAME:CEST
DTSTART:20230326T010000
END:DAYLIGHT
BEGIN:STANDARD
TZOFFSETFROM:+0200
TZOFFSETTO:+0100
TZNAME:CET
DTSTART:20231029T010000
END:STANDARD
BEGIN:DAYLIGHT
TZOFFSETFROM:+0100
TZOFFSETTO:+0200
TZNAME:CEST
DTSTART:20240331T010000
END:DAYLIGHT
BEGIN:STANDARD
TZOFFSETFROM:+0200
TZOFFSETTO:+0100
TZNAME:CET
DTSTART:20241027T010000
END:STANDARD
END:VTIMEZONE
BEGIN:VEVENT
DTSTART;TZID=Europe/Berlin:20230908T190000
DTEND;TZID=Europe/Berlin:20230908T220000
DTSTAMP:20260425T231543
CREATED:20230815T160225Z
LAST-MODIFIED:20230906T091613Z
UID:15268-1694199600-1694210400@stuttgarter-schriftstellerhaus.de
SUMMARY:Stuttgarter Lyriknacht - Lesungen und Gespräche mit Anja Utler\, Claudia Gabler\, Jochen Kelter und Tine Melzer
DESCRIPTION:© Anna Haifisch\n19.00 Uhr: Das Literaturhaus eröffnet den Abend mit Anja Utler und ihrem Lyrikband „Es beginnt. Ein Trauerrefrain“: In 209 kurzen\, locker an die Tradition des Haiku angelehnten Gedichten fragt Anja Utler\, wie wir Trauer und Zeiten der Krise bewältigen. Utler fasst dabei Gefühle als Auskunftsgeber über die Beziehungen in der Welt\, die nicht nur die Bedeutung (ausbleibender) gesellschaftlicher Veränderungen bezeugen\, sondern auch Wege aufzeigen\, zu handeln. \nClaudia Gabler © Barbara Ruda\n19.40 Uhr: Das Schriftstellerhaus geht mit Claudia Gabler nach einem trockenen Sommer in den Wald. Was kann man von dort mitbringen? Verse\, was sonst? „Vom Aufblühen in Vasen“ heißt der 2021 erschienene Gedichtband der im Schwarzwald lebenden Lyrikerin. In ironischen Serpentinen geht es zu Gipfelkreuzen und schmelzenden Gletschern – auf der Suche nach Glühwein und Glück. \n20.20 Uhr Kurze Pause + kühle Erfrischung \n20.30 Uhr: Die Stadtbibliothek lädt Jochen Kelter ein. Jochen Kelter bezieht in seinen Gedichten auch stets politisch Stellung. Er stellt seinen neuen Lyrikband „Verwehtes Jahrhundert“ vor – ein Rückblick von 1945 bis ins Heute mit all seinen Schattenseiten. Zuflucht biete nur die Poesie\, so der Lyriker\, sie ist »täglich Brot« und »einzig Licht der Seele«. \n21.10 Uhr: Sag’s durch die Blume: Zum Abschluss des Abends bringt die Autorin und Künstlerin Tine Melzer mit ihren poetischen Verfahren zwischen Kurztexten und Fotografien die Lyriknacht zum Blühen. Sie hat geforscht zu Gertrude Stein und Ludwig Wittgenstein (2016\, „Taxidermy for Language-Animals“)\, in ihrem Band „Blumen sind geil“ (2020\, mit Markus Kummer) über die Sprache der Blumen nachgedacht\, einen Atlas zum Perspektivwechsel erarbeitet (2022\, „Atlas of Aspect Change“) und nach Zugehörigkeit und Ordnungssinn gefragt im Roman „Alpha Bravo Charlie“ (2023). \nEine Veranstaltungskooperation von Literaturhaus Stuttgart\, Stadtbibliothek und Schriftstellerhaus Stuttgart\, gefördert von der Landeshauptstadt Stuttgart. \nBeate Tröger (Moderation)\nMoritz Heger (Moderation) \nTicketverkauf ab Montag\, 14.8.23 / 12 Uhr online (zzgl. 2\,- € Reservix-Servicegebühr/Buchung)\, in allen Reservix-Vorverkaufsstellen\, per Reservix-Telefon 0761–888 499 99 und in der Buchhandlung & Büchergilde im Literaturhaus (Mo-Fr 12-19 Uhr/ Sa 10-15 Uhr). \nZum Livestream bitte hier entlang: https://streaming.reservix.io/e2141731\nHier müssen Sie Ihren vierstelligen Zugangscode eingeben\, den Sie von Reservix per PDF erhalten haben. Dieser ist mit Veranstaltungsbeginn 72 Stunden gültig. Der Stream startet stets ca. 15 Minuten vor Veranstaltungsbeginn.
URL:https://stuttgarter-schriftstellerhaus.de/termin/stuttgarter-lyriknacht-lesungen-und-gespraeche-mit-anja-utler-claudia-gabler-jochen-kelter-und-tine-melzer/
LOCATION:Literaturhaus Stuttgart\, Breitscheidstraße 4\, Stuttgart\, Baden-Württemberg\, 70174\, Deutschland
CATEGORIES:Öffentlich extern
END:VEVENT
BEGIN:VEVENT
DTSTART;TZID=Europe/Berlin:20230916T100000
DTEND;TZID=Europe/Berlin:20230916T170000
DTSTAMP:20260425T231543
CREATED:20230829T135756Z
LAST-MODIFIED:20230829T135838Z
UID:15087-1694858400-1694883600@stuttgarter-schriftstellerhaus.de
SUMMARY:Theres Essmann: „Schreibwerkstatt Autofiktionales Schreiben (geschlossen)
DESCRIPTION:BITTE BEACHTEN: Diese Schreibwerkstatt ist eine geschlossene Gruppe\, die im ersten Jahr ihres Entstehens im Hospitalhof\, Stuttgart\, begonnen wurde. Die Fortsetzung findet seit Oktober 2022 bis zum Sommer 2023 hier im Schriftstellerhaus statt. \nAus der Ausschreibung:\nIn dieser Schreib-Werkstatt sind Sie eingeladen\, den poetischen Blick auf das eigene Leben zu wagen.\nAnhand von Anregungen aus der Literatur\, ausgehend von Material aus dem eigenen Lebensarchiv und im lebendigen Austausch in der Gruppe schreiben Sie über sich und Ihr Leben – über einzelne Phasen\, zentrale Figuren\, Lebensthemen\, Schlüsselereignisse oder auch den scheinbar beiläufigen Moment.\nOb in Miniaturen oder im größeren Erzählbogen: Angeleitet entdecken Sie das Spannungsfeld aus Erinnerung und Fiktion\, die Wirkung bewusst eingesetzter Schreibtechniken und gestalteter Sprache.\nSo entdecken und üben Sie\, wie aus Erinnerungen Lebens-Geschichten werden und wie im Spannungsfeld von Erinnerung und Fiktion zwar nicht die eine gültige Wahrheit\, aber so etwas wie Wahrhaftigkeit und Sinn aufleuchten kann.\nSchreiberfahrungen sind von Vorteil\, aber nicht Voraussetzung. Ein Laptop erleichtert das Schreiben vor Ort.\nLeitung: Theres Essmann\, Schriftstellerin und zertifizierte Referentin für kreatives Schreiben und Biografiearbeit\nWeitere Infos hier
URL:https://stuttgarter-schriftstellerhaus.de/termin/theres-essmann-schreibwerkstatt-autofiktionales-schreiben-geschlossen-4/
LOCATION:Stuttgarter Schriftstellerhaus\, Kanalstraße 4\, Stuttgart\, 70182\, Deutschland
CATEGORIES:Intern
ATTACH;FMTTYPE=image/png:https://stuttgarter-schriftstellerhaus.de/wp-content/uploads/2015/06/newsletter-footer-2019-3.png
ORGANIZER;CN="Stuttgarter Schriftstellerhaus":MAILTO:info@stuttgarter-schriftstellerhaus.de
END:VEVENT
BEGIN:VEVENT
DTSTART;TZID=Europe/Berlin:20230918T193000
DTEND;TZID=Europe/Berlin:20230918T210000
DTSTAMP:20260425T231543
CREATED:20230830T091428Z
LAST-MODIFIED:20230831T140116Z
UID:15296-1695065400-1695070800@stuttgarter-schriftstellerhaus.de
SUMMARY:40 Jahre Stuttgarter Schriftstellerhaus\, Teil 1
DESCRIPTION:Unter dem Motto „Das Poesiereservat feiert Geburtstag“ begeht das Stuttgarter Schriftstellerhaus sein 40-jähriges Bestehen seit Gründung. \nIn Teil 1 der Festivitäten laden wir alle Mitglieder des Vereins Stuttgarter Schriftstellerhaus\, der 1983 unter dem Vorsitz von Johannes Poethen seine Arbeit aufnahm und in das frisch renovierte Haus in der Kanalstraße 4 einzog\, ein. Und nicht nur die Mitglieder\, sondern auch und zuvörderst die Unterstützer wie das Kulturamt der Stadt Stuttgart und auch das Ministerium für Wissenschaft\, Forschung und Kunst Baden-Württemberg. Außerdem sind die Partnereinrichtungen in der Literaturszene Stuttgarts und des Landes Baden-Württemberg eingeladen. Darüber hinaus sind alle weiteren Förderer und Unterstützer des Hauses sowie die ehemaligen Stipendiat:innen\, uns verbundene Autor:innen und alle Freunde des Hauses bei diesem Festakt herzlich willkommen. Und natürlich auch solche\, die es kennenlernen möchten. \nWir erwarten an dem Abend den Bürgermeister für Allgemeine Verwaltung\, Kultur und Recht in Stuttgart\, Dr. Fabian Mayer und den Staatssekretär im Ministerium für Wissenschaft\, Forschung und Kultur Baden-Württemberg\, Arne Braun\, die Grußworte sprechen werden. \nGanz besonders gespannt sind wir auf die poetologische Festrede\, die der Lyriker und ehemalige Stipendiat aus dem Jahr 2020 Yevgeniy Breyger\, Wien\, halten wird. \nWas wäre ein solcher Abend ohne Autor:innen. Wir freuen uns sehr auf die Kurzlesungen die in Kurzlesungen von Selina Böttcher und Felicitas Kaiser aus dem Kreis des Jungen Schriftstellerhauses\, auf die seit langem dem Haus verbundenen baden-württembergischen Autor:innen Susanne Stephan und Walle Sayer.\nMoritz Heger\, der derzeit amtierende erste Vorsitzende des Vereins\, wird eine Kostprobe aus seinem neuen\, im kommenden Jahr erscheinenden Roman geben. Der letzte Stipendiat aus dem Jahr 2023 Steffen Schroeder kommt noch einmal zurück zu dem Ort\, an dem er von Januar bis März an neuen Manuskripten arbeitete. \nFür einen außergewöhnlichen musikalisch-filmischen Beitrag sorgen die Stuttgarter Saxophonistin und Videokünstlerin Nikola Lutz und der Kontrabassist César Bernal aus Chile. \nAstrid Braun\, seit 2005 Geschäftsführerin des Schriftstellerhauses wird einen Blick zurück auf das Haus und ihre Arbeit in dieser Zeit werfen\, umfasst diese doch fast die Hälfte der Zeit\, die es das Haus schon gibt. Zum Abschluss wird die Geschäftsführerin vom Vorsitzenden des Vereins Moritz Heger in den Ruhestand verabschiedet. \nAnschließend laden wir zu einem kleinen Empfang ein. \n \nWir danken dem Kulturamt der Landeshauptstadt Stuttgart und dem Ministerium für Wissenschaft\, Forschung und Kunst Baden-Württemberg für die großzügige Unterstützung.
URL:https://stuttgarter-schriftstellerhaus.de/termin/40-jahre-stuttgarter-schriftstellerhaus-teil-1/
LOCATION:Hospitalhof Stuttgart\, Büchsenstraße 33\, Stuttgart\, 70174\, Deutschland
CATEGORIES:Öffentlich extern
ATTACH;FMTTYPE=image/jpeg:https://stuttgarter-schriftstellerhaus.de/wp-content/uploads/2023/08/0001.jpg
END:VEVENT
BEGIN:VEVENT
DTSTART;TZID=Europe/Berlin:20230919T163000
DTEND;TZID=Europe/Berlin:20230919T200000
DTSTAMP:20260425T231543
CREATED:20230830T143956Z
LAST-MODIFIED:20230916T111730Z
UID:15315-1695141000-1695153600@stuttgarter-schriftstellerhaus.de
SUMMARY:40 Jahre Stuttgarter Schriftstellerhaus\, Teil 2
DESCRIPTION:Stunden der offenen Tür im Schriftstellerhaus \nEinen Tag nach dem Festakt im Hospitalhof zu unserem Jubiläum öffnen wir am 19. September ab 16.30 Uhr die Tür zum Haus. Lernen Sie das Schriftstellerhaus von innen kennen und hören Sie exzellente Lyrik. \nGetreu unserem Motto haben wir fünf Poet:innen eingeladen\, die in den verschiedenen Räumen des Hauses Lyrik vortragen. In jedem Raum\, vom Keller bis zum Dachgeschoss sowie auf der Außentreppe erleben Sie in Kurzlesungen Lyrik live. Alle 30 Minuten wechseln Sie als Gast in den nächsten Raum. Keine Angst vor Gedränge in unserem charmanten Haus. Nähe ist ja wieder möglich. \nFreuen Sie sich auf \nRaoul Eisele\, Stipendiat 2021\,\nKatharina Ferner\, Stipendiatin 2019\,\nMathias Jeschke\, Stuttgarter Autor\,\nOdile Kennel\, Stipendiatin 2014\,\nAchim Wagner\, Stipendiat 2010 \nFür Getränke und Snacks ist gesorgt. \nMit großem Dank an das Ministerium für Wissenschaft\, Forschung und Kunst Baden-Württemberg und das Kulturamt der Landeshauptstadt Stuttgart.
URL:https://stuttgarter-schriftstellerhaus.de/termin/40-jahre-stuttgarter-schriftstellerhaus-teil-2/
LOCATION:Stuttgarter Schriftstellerhaus\, Kanalstraße 4\, Stuttgart\, 70182
CATEGORIES:Öffentlich
ORGANIZER;CN="Stuttgarter Schriftstellerhaus":MAILTO:info@stuttgarter-schriftstellerhaus.de
END:VEVENT
BEGIN:VEVENT
DTSTART;TZID=Europe/Berlin:20230920T190000
DTEND;TZID=Europe/Berlin:20230920T210000
DTSTAMP:20260425T231543
CREATED:20230911T121408Z
LAST-MODIFIED:20230911T121408Z
UID:15375-1695236400-1695243600@stuttgarter-schriftstellerhaus.de
SUMMARY:AG wortreich
DESCRIPTION:Im Oktober 2022 haben Mitglieder vom Stuttgarter Schriftstellerhaus eine neue Autor:innengruppe gegründet: AG wortreich.\nIm Zentrum steht die intensive Arbeit an eigenen Prosatexten. Die Gruppe trifft sich jeden dritten Mittwoch im Monat um 19 Uhr.\nDerzeit ist die maximale Gruppengröße erreicht. Interessierte werden auf die Warteliste gesetzt.\nBewerber:innen stellen sich der Gruppe mit einem eigenen Prosatext vor\, die Gruppe entscheidet über eine Aufnahme.\nEine Mitgliedschaft im Schriftstellerhaus ist obligatorisch. \nKontakt: Hans Martin Thill\, hamati38@web.de
URL:https://stuttgarter-schriftstellerhaus.de/termin/ag-wortreich-8/
LOCATION:Stuttgarter Schriftstellerhaus\, Kanalstraße 4\, Stuttgart\, 70182
CATEGORIES:Intern
ATTACH;FMTTYPE=image/png:https://stuttgarter-schriftstellerhaus.de/wp-content/uploads/2019/08/platzhalter-dreiecke.png
ORGANIZER;CN="Stuttgarter Schriftstellerhaus":MAILTO:info@stuttgarter-schriftstellerhaus.de
END:VEVENT
BEGIN:VEVENT
DTSTART;TZID=Europe/Berlin:20230923T100000
DTEND;TZID=Europe/Berlin:20230923T170000
DTSTAMP:20260425T231543
CREATED:20230911T120953Z
LAST-MODIFIED:20230911T120953Z
UID:15373-1695463200-1695488400@stuttgarter-schriftstellerhaus.de
SUMMARY:Theres Essmann: Literarische Schreibwerkstatt #6
DESCRIPTION:In dieser fortlaufenden Schreib- und Textwerkstatt wollen wir das eigene literarischen Schreiben (weiter-)entwickeln\, neue Schreiberfahrungen machen und dabei insbesondere die Resonanz der Gruppe miteinbeziehen. \nWir arbeiten an Kurzgeschichten\, Erzählungen\, Gedichten oder auch an größeren Schreib-Projekten. Dabei beschäftigen wir uns mit dem „Schreib-Handwerk“ (z.B. Erzählstimme\, Erzählperspektive\, Figurenzeichnung\, Dialogführung) und seinen Regeln genauso wie mit der Freiheit des Autors\, davon bewusst abzuweichen. Darüber hinaus wird Raum sein\, die Erfahrungen und Selbst-Begegnungen im eigenen Schreib-Prozess mit den anderen zu teilen. \nZwischen den Terminen arbeiten wir an Texten\, die ca. eine Woche vor dem darauffolgenden Termin zirkuliert und dann vor Ort gemeinsam lektoriert werden. \nLeitung: Theres Essmann\, Stuttgart\, Schriftstellerin\, Referentin für Literarisches und Kreatives Schreiben
URL:https://stuttgarter-schriftstellerhaus.de/termin/theres-essmann-literarische-schreibwerkstatt-6/
LOCATION:Stuttgarter Schriftstellerhaus\, Kanalstraße 4\, Stuttgart\, 70182
CATEGORIES:Intern
ATTACH;FMTTYPE=image/jpeg:https://stuttgarter-schriftstellerhaus.de/wp-content/uploads/2022/12/portaitausscnitt_essmann.jpg
ORGANIZER;CN="Stuttgarter Schriftstellerhaus":MAILTO:info@stuttgarter-schriftstellerhaus.de
END:VEVENT
BEGIN:VEVENT
DTSTART;TZID=Europe/Berlin:20230927T193000
DTEND;TZID=Europe/Berlin:20230927T210000
DTSTAMP:20260425T231543
CREATED:20230815T093526Z
LAST-MODIFIED:20230815T093526Z
UID:15271-1695843000-1695848400@stuttgarter-schriftstellerhaus.de
SUMMARY:"Dünnes Eis". Lesung und Gespräch mit Theres Essmann. Moderation: Astrid Braun
DESCRIPTION:Essmann\, Dünnes Eis (©Dörlemann Verlag)\nIm August erschien der neue Roman „Dünnes Eis“ von Theres Essmann im Dörlemann Verlag. Wir freuen uns\, dass die Autorin und Werkstattleiterin ihren Roman in einer gemeinsamen Veranstaltung mit dem Hospitalhof erstmalig vorstellen wird. Die Verlegerin Sabine Dörlemann wird anwesend sein. \nAstrid Braun wird den Abend moderieren. \nZum Buch: \nKurz vor ihrem hundertsten Lebensjahr wird Marietta von einer seltsamen Unruhe ergriffen. Dabei macht sie sich nicht viel aus den Geburtstagen\, vielmehr beschäftigt sie\, was in ihrer Umgebung passiert. In das Zimmer ihrer Heimnachbarin Gisela ist Herr Tacke eingezogen\, mürrisch und ein alter Nazi\, wird gemunkelt. Und in der Flüchtlingsunterkunft nebenan lebt ein kleiner Junge\, der sie an ihren Sohn erinnert\, der vor vielen Jahrzehnten die Flucht aus den Ostgebieten nicht überlebt hat. Nach und nach melden sich die Geister der Vergangenheit und fordern sie auf\, sich endlich dem schmerzhaftesten Ereignis ihres Lebens zuzuwenden\, das sie jahrzehntelang in ihrem tiefsten Inneren vergraben hatte. Durch eine Begegnung findet sie den Mut\, sich ihrer dunkelsten Stunde zu stellen. \nÜber Theres Essmann \nTheres Essmann © Rüdiger Nehmzoff\nTheres Essmann wurde 1967 im Münsterland geboren\, studierte Germanistik und Philosophie in Tübingen und lebt heute in Stuttgart\, wo sie als Poesietherapeutin und Referentin für kreatives Schreiben arbeitet. Davor war sie 20 Jahre lang als Führungskraft in der freien Wirtschaft tätig. Für ihr 2020 erschienenes Romandebüt Federico Temperini wurde sie mit dem Literaturstipendium des Landes Baden-Württemberg ausgezeichnet und war für den Thaddäus-Troll-Preis nominiert.
URL:https://stuttgarter-schriftstellerhaus.de/termin/duennes-eis-lesung-und-gespraech-mit-theres-essmann-moderation-astrid-braun/
LOCATION:Hospitalhof Stuttgart\, Büchsenstraße 33\, Stuttgart\, 70174\, Deutschland
CATEGORIES:Öffentlich extern
ORGANIZER;CN="Hospitalhof":MAILTO:info@hospitalhof.de
END:VEVENT
BEGIN:VEVENT
DTSTART;TZID=Europe/Berlin:20230929T100000
DTEND;TZID=Europe/Berlin:20230929T111555
DTSTAMP:20260425T231543
CREATED:20230925T123528Z
LAST-MODIFIED:20230929T111555Z
UID:15399-1695981600-1695986155@stuttgarter-schriftstellerhaus.de
SUMMARY:Moritz Hildt: "Romanwerkstatt" (digital)
DESCRIPTION:In der Romanwerkstatt im Stuttgarter Schriftstellerhaus treffen sich Autor:innen\, die ein eigenständiges Romanprojekt verfolgen\, im etwa zweimonatigen Rhythmus zu intensiven Werkstattgesprächen\, verbunden mit theoretischen Impulsen und gemeinsamen Diskussionen zu bestimmten Facetten des schriftstellerischen Arbeitens. Geleitet wird die Romanwerkstatt vom Tübinger Schriftsteller und Philosophen Moritz Hildt\, der bis zum letzten Jahr 2022 auch Vorstandsmitglied im Stuttgarter Schriftstellerhaus gewesen ist. \nDiese Gruppe ist bereits voll. Neue Mitwirkende können zur Zeit nicht aufgenommen werden. Sie treffen sich abwechselnd digital oder in Präsenz in Stuttgart.
URL:https://stuttgarter-schriftstellerhaus.de/termin/moritz-hildt-romanwerkstatt-in-praesenz-2/
LOCATION:Stuttgarter Schriftstellerhaus\, Kanalstraße 4\, Stuttgart\, 70182
CATEGORIES:Intern
ATTACH;FMTTYPE=image/jpeg:https://stuttgarter-schriftstellerhaus.de/wp-content/uploads/2022/04/moritz-hildt-schriftstellerhaus.jpeg
ORGANIZER;CN="Stuttgarter Schriftstellerhaus":MAILTO:info@stuttgarter-schriftstellerhaus.de
END:VEVENT
END:VCALENDAR