BEGIN:VCALENDAR
VERSION:2.0
PRODID:-//Stuttgarter Schriftstellerhaus - ECPv6.15.20//NONSGML v1.0//EN
CALSCALE:GREGORIAN
METHOD:PUBLISH
X-WR-CALNAME:Stuttgarter Schriftstellerhaus
X-ORIGINAL-URL:https://stuttgarter-schriftstellerhaus.de
X-WR-CALDESC:Veranstaltungen für Stuttgarter Schriftstellerhaus
REFRESH-INTERVAL;VALUE=DURATION:PT1H
X-Robots-Tag:noindex
X-PUBLISHED-TTL:PT1H
BEGIN:VTIMEZONE
TZID:Europe/Berlin
BEGIN:DAYLIGHT
TZOFFSETFROM:+0100
TZOFFSETTO:+0200
TZNAME:CEST
DTSTART:20220327T010000
END:DAYLIGHT
BEGIN:STANDARD
TZOFFSETFROM:+0200
TZOFFSETTO:+0100
TZNAME:CET
DTSTART:20221030T010000
END:STANDARD
BEGIN:DAYLIGHT
TZOFFSETFROM:+0100
TZOFFSETTO:+0200
TZNAME:CEST
DTSTART:20230326T010000
END:DAYLIGHT
BEGIN:STANDARD
TZOFFSETFROM:+0200
TZOFFSETTO:+0100
TZNAME:CET
DTSTART:20231029T010000
END:STANDARD
BEGIN:DAYLIGHT
TZOFFSETFROM:+0100
TZOFFSETTO:+0200
TZNAME:CEST
DTSTART:20240331T010000
END:DAYLIGHT
BEGIN:STANDARD
TZOFFSETFROM:+0200
TZOFFSETTO:+0100
TZNAME:CET
DTSTART:20241027T010000
END:STANDARD
END:VTIMEZONE
BEGIN:VEVENT
DTSTART;TZID=Europe/Berlin:20231007T160000
DTEND;TZID=Europe/Berlin:20231007T180000
DTSTAMP:20260423T135557
CREATED:20230925T122551Z
LAST-MODIFIED:20230925T122551Z
UID:15391-1696694400-1696701600@stuttgarter-schriftstellerhaus.de
SUMMARY:Ausstellung "Tatort Schriftstellerhaus Stuttgart"
DESCRIPTION:Plakat 1 zur Ausstellung „Tatort Schriftstellerhaus Stuttgart“ @ Susanne Martin\nWir laden zu einer kleinen Ausstellung in Stuttgarter Schriftstellerhaus mit Porträts und Gedichten von den Mitwirkenden einer Lyrikgruppe\, die sich 1984 erstmalig traf\, um ihre Gedichte „zu putzen“. Sieben Teilnehmer:innen schreiben auch heute noch. Die Ausstellung zeigt Porträts der sieben Lyriker:innen und je einen Text aus der damaligen Zeit und von heute. \n1984 leitete der Johannes Poethen (1928 – 2001)\, Gründer des Vereins Stuttgarter Schriftstellerhaus\, das erste Lyrikseminar der Bertelsmannstiftung in dieser neuen Begegnungsstätte für Autorinnen und Autoren. Das Konzept: Alle lesen reihum neue Gedichte vor und kritisieren sie – in der Sache hart\, in der Form wertschätzend und freundlich.\nDie Gruppe traf sich weiter zum „Gedicht-Putzen“ nach Poethens Verfahren: Wer gelesen hat\, hält den Mund\, bis alle anderen etwas dazu gesagt haben. 7 der 12 Teilnehmerinnen und Teilnehmer schreiben immer noch. In der Pandemie war kein Treffen möglich\, und so kam Wolfgang Brenneisen auf die Idee einer Porträt-Serie. Je ein Text aus der „Gründerzeit“ und aus den letzten Jahren lassen die Bilder sprechen. \nBei der Eröffnung der Ausstellung\, die noch bis Weihnachten im Schriftstellerhaus hängt\, lesen einige der Lyriker:innen ihre Texte und erzählen von den Anfängen.\nEs führt ein: Michael Seehoff. \n 
URL:https://stuttgarter-schriftstellerhaus.de/termin/ausstellung-tatort-schriftstellerhaus-stuttgart/
LOCATION:Stuttgarter Schriftstellerhaus\, Kanalstraße 4\, Stuttgart\, 70182
CATEGORIES:Öffentlich
ATTACH;FMTTYPE=image/jpeg:https://stuttgarter-schriftstellerhaus.de/wp-content/uploads/2023/09/Plakat_02.jpg
ORGANIZER;CN="Stuttgarter Schriftstellerhaus":MAILTO:info@stuttgarter-schriftstellerhaus.de
END:VEVENT
BEGIN:VEVENT
DTSTART;TZID=Europe/Berlin:20231011T190000
DTEND;TZID=Europe/Berlin:20231011T210000
DTSTAMP:20260423T135557
CREATED:20230925T123905Z
LAST-MODIFIED:20230925T123952Z
UID:15402-1697050800-1697058000@stuttgarter-schriftstellerhaus.de
SUMMARY:Schreibgruppe "Band 2"
DESCRIPTION:Die offene Schreibgruppe Band 2 ist offen für neue Interessent:innen.\nBitte telefonisch unter 0711-233554 anmelden.
URL:https://stuttgarter-schriftstellerhaus.de/termin/schreibgruppe-band-2-109/
LOCATION:Stuttgarter Schriftstellerhaus\, Kanalstraße 4\, Stuttgart\, 70182
CATEGORIES:Intern
ATTACH;FMTTYPE=image/png:https://stuttgarter-schriftstellerhaus.de/wp-content/uploads/2019/08/hintergrund-footer-dreiecke.png
ORGANIZER;CN="Stuttgarter Schriftstellerhaus":MAILTO:info@stuttgarter-schriftstellerhaus.de
END:VEVENT
BEGIN:VEVENT
DTSTART;TZID=Europe/Berlin:20231018T190000
DTEND;TZID=Europe/Berlin:20231018T210000
DTSTAMP:20260423T135557
CREATED:20230926T115356Z
LAST-MODIFIED:20230926T115356Z
UID:15410-1697655600-1697662800@stuttgarter-schriftstellerhaus.de
SUMMARY:AG wortreich
DESCRIPTION:Im Oktober 2022 haben Mitglieder vom Stuttgarter Schriftstellerhaus eine neue Autor:innengruppe gegründet: AG wortreich.\nIm Zentrum steht die intensive Arbeit an eigenen Prosatexten. Die Gruppe trifft sich jeden dritten Mittwoch im Monat um 19 Uhr.\nDerzeit ist die maximale Gruppengröße erreicht. Interessierte werden auf die Warteliste gesetzt.\nBewerber:innen stellen sich der Gruppe mit einem eigenen Prosatext vor\, die Gruppe entscheidet über eine Aufnahme.\nEine Mitgliedschaft im Schriftstellerhaus ist obligatorisch. \n 
URL:https://stuttgarter-schriftstellerhaus.de/termin/ag-wortreich-9/
LOCATION:Stuttgarter Schriftstellerhaus\, Kanalstraße 4\, Stuttgart\, 70182
CATEGORIES:Intern
ATTACH;FMTTYPE=image/png:https://stuttgarter-schriftstellerhaus.de/wp-content/uploads/2019/08/platzhalter-dreiecke.png
ORGANIZER;CN="Stuttgarter Schriftstellerhaus":MAILTO:info@stuttgarter-schriftstellerhaus.de
END:VEVENT
BEGIN:VEVENT
DTSTART;TZID=Europe/Berlin:20231023T180000
DTEND;TZID=Europe/Berlin:20231023T200000
DTSTAMP:20260423T135557
CREATED:20230926T120041Z
LAST-MODIFIED:20231023T143721Z
UID:15412-1698084000-1698091200@stuttgarter-schriftstellerhaus.de
SUMMARY:Schreibtisch
DESCRIPTION:„Du bist zwischen 15 und 25 Jahre alt und schreibst? – dann herzlich willkommen beim „Schreibtisch“\, dem Treff für Jungautor:innen im Raum Stuttgart. \nWir treffen uns wie immer montags\, dieses Mal am 23. Oktober ab 18:00 Uhr im Stuttgarter Schriftstellerhaus (Kanalstraße 4\, 70182 Stuttgart\, direkt am Charlottenplatz) und würden uns freuen\, wenn auch Du dabei bist. \nDu kannst gerne einfach spontan vorbeischauen\, eine Anmeldung vorab ist nicht notwendig. Bei Fragen kannst du dich einfach an Robin (rob_ack@gmx.de) wenden. \nDich erwarten: \n✅ Austausch über Dein Kreatives Schreiben (Lyrik\, Prosa\,… – alles willkommen) und Literatur im Allgemeinen mit anderen Schreibenden\n✅ Eine entspannte Atmosphäre\n✅ Tee\, Kaffee und kleine Snacks \nKlingt gut? Dann komm‘ gerne vorbei – Wir freuen uns schon darauf\, Dich kennenzulernen
URL:https://stuttgarter-schriftstellerhaus.de/termin/schreibtisch-3/
LOCATION:Stuttgarter Schriftstellerhaus\, Kanalstraße 4\, Stuttgart\, 70182
CATEGORIES:Intern
ATTACH;FMTTYPE=image/png:https://stuttgarter-schriftstellerhaus.de/wp-content/uploads/2019/08/hintergrund-footer-dreiecke.png
ORGANIZER;CN="Stuttgarter Schriftstellerhaus":MAILTO:info@stuttgarter-schriftstellerhaus.de
END:VEVENT
BEGIN:VEVENT
DTSTART;TZID=Europe/Berlin:20231026T180000
DTEND;TZID=Europe/Berlin:20231026T200000
DTSTAMP:20260423T135557
CREATED:20230926T133733Z
LAST-MODIFIED:20230926T133826Z
UID:15415-1698343200-1698350400@stuttgarter-schriftstellerhaus.de
SUMMARY:Das Junge Schriftstellerhaus
DESCRIPTION:Flyer JSH 23-24© Susanne Martin\nDer Jahrgang 2022-2023 des Jungen Schriftstellerhauses ist vor den Sommerferien Zu Ende gegangen. Am 26. Oktober startet der neue Kurs\, in dem auch ehemalige Teilnehmer:innen zu finden sein werden. \nGemeinsam sollen sie das künstlerische Handwerk des literarischen Schreibens im Austausch mit Gleichgesinnten und unter der Leitung von Moritz Heger und Regina Rechsteiner erlernen bzw. ihre Fertigkeiten zu vertiefen. \nDas Junge Schriftstellerhaus wird vom Kulturamt der Stadt Stuttgart gefördert.
URL:https://stuttgarter-schriftstellerhaus.de/termin/das-junge-schriftstellerhaus-26/
LOCATION:Stuttgarter Schriftstellerhaus\, Kanalstraße 4\, Stuttgart\, 70182
CATEGORIES:Intern
ORGANIZER;CN="Stuttgarter Schriftstellerhaus":MAILTO:info@stuttgarter-schriftstellerhaus.de
END:VEVENT
BEGIN:VEVENT
DTSTART;TZID=Europe/Berlin:20231030T190000
DTEND;TZID=Europe/Berlin:20231030T210000
DTSTAMP:20260423T135557
CREATED:20231024T125927Z
LAST-MODIFIED:20231024T125927Z
UID:15649-1698692400-1698699600@stuttgarter-schriftstellerhaus.de
SUMMARY:Entre nous
DESCRIPTION:Die freie Lyrikgruppe entre nous trifft sich in unregelmäßigen Abständen im Haus.\nBei Interesse bitte telefonisch unter 0711-233554
URL:https://stuttgarter-schriftstellerhaus.de/termin/entre-nous-13/
LOCATION:Stuttgarter Schriftstellerhaus\, Kanalstraße 4\, Stuttgart\, 70182
CATEGORIES:Intern
ORGANIZER;CN="Stuttgarter Schriftstellerhaus":MAILTO:info@stuttgarter-schriftstellerhaus.de
END:VEVENT
END:VCALENDAR