BEGIN:VCALENDAR
VERSION:2.0
PRODID:-//Stuttgarter Schriftstellerhaus - ECPv6.15.20//NONSGML v1.0//EN
CALSCALE:GREGORIAN
METHOD:PUBLISH
X-WR-CALNAME:Stuttgarter Schriftstellerhaus
X-ORIGINAL-URL:https://stuttgarter-schriftstellerhaus.de
X-WR-CALDESC:Veranstaltungen für Stuttgarter Schriftstellerhaus
REFRESH-INTERVAL;VALUE=DURATION:PT1H
X-Robots-Tag:noindex
X-PUBLISHED-TTL:PT1H
BEGIN:VTIMEZONE
TZID:Europe/Berlin
BEGIN:DAYLIGHT
TZOFFSETFROM:+0100
TZOFFSETTO:+0200
TZNAME:CEST
DTSTART:20240331T010000
END:DAYLIGHT
BEGIN:STANDARD
TZOFFSETFROM:+0200
TZOFFSETTO:+0100
TZNAME:CET
DTSTART:20241027T010000
END:STANDARD
BEGIN:DAYLIGHT
TZOFFSETFROM:+0100
TZOFFSETTO:+0200
TZNAME:CEST
DTSTART:20250330T010000
END:DAYLIGHT
BEGIN:STANDARD
TZOFFSETFROM:+0200
TZOFFSETTO:+0100
TZNAME:CET
DTSTART:20251026T010000
END:STANDARD
BEGIN:DAYLIGHT
TZOFFSETFROM:+0100
TZOFFSETTO:+0200
TZNAME:CEST
DTSTART:20260329T010000
END:DAYLIGHT
BEGIN:STANDARD
TZOFFSETFROM:+0200
TZOFFSETTO:+0100
TZNAME:CET
DTSTART:20261025T010000
END:STANDARD
END:VTIMEZONE
BEGIN:VEVENT
DTSTART;TZID=Europe/Berlin:20250203T180000
DTEND;TZID=Europe/Berlin:20250203T210000
DTSTAMP:20260423T152825
CREATED:20250108T100104Z
LAST-MODIFIED:20250130T192943Z
UID:16872-1738605600-1738616400@stuttgarter-schriftstellerhaus.de
SUMMARY:Schreibtisch
DESCRIPTION:Du bist jung und schreibst? – dann herzlich willkommen beim „Schreibtisch“\, dem Treff für Jungautor:innen im Raum Stuttgart. \nWir treffen uns wie immer freitags\, dieses Mal am 03. Februar 2025 ab 18:00 Uhr im Stuttgarter Schriftstellerhaus (Kanalstraße 4\, 70182 Stuttgart\, direkt am Charlottenplatz) und würden uns freuen\, wenn auch Du dabei bist. \nDu kannst gerne spontan vorbeischauen\, eine Anmeldung vorab ist nicht notwendig. Bei Fragen kannst du dich einfach per Mail an uns wenden: jsh@stuttgarter-schriftstellerhaus.de. \nDich erwarten: \n Austausch über Dein Kreatives Schreiben (Lyrik\, Prosa\,… – alles willkommen) und Literatur im Allgemeinen mit anderen Schreibenden zwischen 15 und 30 Jahre\n Eine entspannte Atmosphäre\n Tee\, Kaffee und kleine Snacks \nKlingt gut? Dann komm‘ gerne vorbei – Wir freuen uns schon darauf\, Dich kennenzulernen!
URL:https://stuttgarter-schriftstellerhaus.de/termin/schreibtisch-19/
LOCATION:Stuttgarter Schriftstellerhaus\, Kanalstraße 4\, Stuttgart\, 70182\, Deutschland
CATEGORIES:Junges Schriftstellerhaus,Öffentlich
END:VEVENT
BEGIN:VEVENT
DTSTART;TZID=Europe/Berlin:20250208T100000
DTEND;TZID=Europe/Berlin:20250208T180000
DTSTAMP:20260423T152825
CREATED:20250108T094657Z
LAST-MODIFIED:20250108T100846Z
UID:16867-1739008800-1739037600@stuttgarter-schriftstellerhaus.de
SUMMARY:Fortbildung Schreibwerkstätten leiten – Baustein II  (Möglichkeiten der Textkritik - über Texte reden):
DESCRIPTION:Fortbildung Schreibwerkstätten leiten – Baustein II  (Möglichkeiten der Textkritik – über Texte reden):\n \nTeil 1\, Baustein II: Kurze erzählende Prosa (Textkritik) \nReferentin: Julia Hofelich \nSamstag\, 08.02.25\, 10.00 bis 18.00 Uhr \nStuttgarter Schriftstellerhaus \nWie können Sie als Kursleitende Ihre Teilnehmer*innen durch konstruktive Kritik bei der Verbesserung ihrer Geschichten unterstützen? In dieser Textkritikwerkstatt befassen wir uns mit Aufbau und Sprache kurzer Prosatexte sowie mit den Möglichkeiten und Grenzen der Textkritik. Wir werden die Besonderheiten ausgewählter Textarten (kurze Geschichten\, Kurz- und Kürzestgeschichten und Märchen) besprechen und auch praktische Übungen durchführen. Die Textkritik erfolgt am Beispiel eigener Texte.\nBitte mit der Anmeldung eine eigene unveröffentlichte kurze Geschichte (max. 6 Normseiten) einreichen. (Falls die Geschichte länger ist als 6 Normseiten\, bitte nur einen Auszug von 6 Normseiten schicken). \nFahrtkosten können nicht erstattet werden.
URL:https://stuttgarter-schriftstellerhaus.de/termin/fortbildung-schreibwerkstaetten-leiten-baustein-ii-moeglichkeiten-der-textkritik-ueber-texte-reden/
LOCATION:Stuttgarter Schriftstellerhaus\, Kanalstraße 4\, Stuttgart\, 70182
CATEGORIES:Öffentlich
END:VEVENT
BEGIN:VEVENT
DTSTART;TZID=Europe/Berlin:20250219T190000
DTEND;TZID=Europe/Berlin:20250219T210000
DTSTAMP:20260423T152825
CREATED:20250115T103909Z
LAST-MODIFIED:20250115T115638Z
UID:16888-1739991600-1739998800@stuttgarter-schriftstellerhaus.de
SUMMARY:AG Wortreich
DESCRIPTION:Im Oktober 2022 haben Mitglieder des Stuttgarter Schriftstellerhauses die Autor:innengruppe AG wortreich gegründet.\nIm Zentrum steht vor allem der intensive Austausch über die Arbeit an eigenen Prosatexten. Die Gruppe trifft sich jeden dritten Mittwoch im Monat um 19 Uhr im Schriftstellerhaus. Bewerber:innen stellen sich mit einem eigenen Prosatext vor\, die Gruppe entscheidet über eine Aufnahme.\nDie Mitgliedschaft im Schriftstellerhaus wird nach Beitritt zur Gruppe erwartet.\nBei Interesse melden Sie sich bitte bei Peter Schmidt (kunstmacher@t-online.de)
URL:https://stuttgarter-schriftstellerhaus.de/termin/ag-wortreich-20/
LOCATION:Stuttgarter Schriftstellerhaus\, Kanalstraße 4\, Stuttgart\, 70182\, Deutschland
CATEGORIES:Intern
END:VEVENT
BEGIN:VEVENT
DTSTART;TZID=Europe/Berlin:20250225T193000
DTEND;TZID=Europe/Berlin:20250225T210000
DTSTAMP:20260423T152825
CREATED:20250203T113810Z
LAST-MODIFIED:20250224T073648Z
UID:17055-1740511800-1740517200@stuttgarter-schriftstellerhaus.de
SUMMARY:Verena Boos - Lesung und Gespräch in der Stadtbibliothek Stuttgart
DESCRIPTION:Verena Boos\, Foto: Rainer Koch\nValencia\, die Stadt der Orangen\, der Straßenfeste\, der lauen Sommerabende. Die Stadt der Freundschaft zwischen Amalia und Marina. Doch die Fassaden dieser Stadt am Meer verbergen eine Geschichte\, die tief in die Dunkelkammern einer deutschen und einer spanischen Familie führt. Mitreißend und psychologisch genau erzählt Verena Boos in „Die Taucherin“ von der Suche zweier Töchter nach Wahrhaftigkeit und zeichnet dabei das Porträt einer faszinierenden Metropole am Meer. Moderation: Björn Springorum
URL:https://stuttgarter-schriftstellerhaus.de/termin/verena-boos-lesung-und-gespraech-in-der-stadtbibliothek-stuttgart/
LOCATION:Stadtbibliothek Stuttgart\, Mailänder Platz 1\, Stuttgart\, 70173\, Deutschland
CATEGORIES:Öffentlich
END:VEVENT
END:VCALENDAR