BEGIN:VCALENDAR
VERSION:2.0
PRODID:-//Stuttgarter Schriftstellerhaus - ECPv6.15.20//NONSGML v1.0//EN
CALSCALE:GREGORIAN
METHOD:PUBLISH
X-WR-CALNAME:Stuttgarter Schriftstellerhaus
X-ORIGINAL-URL:https://stuttgarter-schriftstellerhaus.de
X-WR-CALDESC:Veranstaltungen für Stuttgarter Schriftstellerhaus
REFRESH-INTERVAL;VALUE=DURATION:PT1H
X-Robots-Tag:noindex
X-PUBLISHED-TTL:PT1H
BEGIN:VTIMEZONE
TZID:Europe/Berlin
BEGIN:DAYLIGHT
TZOFFSETFROM:+0100
TZOFFSETTO:+0200
TZNAME:CEST
DTSTART:20240331T010000
END:DAYLIGHT
BEGIN:STANDARD
TZOFFSETFROM:+0200
TZOFFSETTO:+0100
TZNAME:CET
DTSTART:20241027T010000
END:STANDARD
BEGIN:DAYLIGHT
TZOFFSETFROM:+0100
TZOFFSETTO:+0200
TZNAME:CEST
DTSTART:20250330T010000
END:DAYLIGHT
BEGIN:STANDARD
TZOFFSETFROM:+0200
TZOFFSETTO:+0100
TZNAME:CET
DTSTART:20251026T010000
END:STANDARD
BEGIN:DAYLIGHT
TZOFFSETFROM:+0100
TZOFFSETTO:+0200
TZNAME:CEST
DTSTART:20260329T010000
END:DAYLIGHT
BEGIN:STANDARD
TZOFFSETFROM:+0200
TZOFFSETTO:+0100
TZNAME:CET
DTSTART:20261025T010000
END:STANDARD
END:VTIMEZONE
BEGIN:VEVENT
DTSTART;TZID=Europe/Berlin:20250509T180000
DTEND;TZID=Europe/Berlin:20250509T200000
DTSTAMP:20260423T135602
CREATED:20250424T080754Z
LAST-MODIFIED:20250424T080923Z
UID:17239-1746813600-1746820800@stuttgarter-schriftstellerhaus.de
SUMMARY:Schreibtisch
DESCRIPTION:Du bist jung und schreibst? – dann herzlich willkommen beim „Schreibtisch“\, dem Treff für Jungautor:innen im Raum Stuttgart. \nWir treffen uns wie immer freitags\, dieses Mal am 09. Mai 2025 ab 18:00 Uhr im Stuttgarter Schriftstellerhaus (Kanalstraße 4\, 70182 Stuttgart\, direkt am Charlottenplatz) und würden uns freuen\, wenn auch Du dabei bist. \nDu kannst gerne spontan vorbeischauen\, eine Anmeldung vorab ist nicht notwendig. Bei Fragen kannst du dich einfach per Mail an uns wenden: jsh@stuttgarter-schriftstellerhaus.de. \nDich erwarten: \n Austausch über Dein Kreatives Schreiben (Lyrik\, Prosa\,… – alles willkommen) und Literatur im Allgemeinen mit anderen Schreibenden zwischen 15 und 30 Jahre\n Eine entspannte Atmosphäre\n Tee\, Kaffee und kleine Snacks \nKlingt gut? Dann komm‘ gerne vorbei – Wir freuen uns schon darauf\, Dich kennenzulernen!
URL:https://stuttgarter-schriftstellerhaus.de/termin/17239/
LOCATION:Stuttgarter Schriftstellerhaus\, Kanalstraße 4\, Stuttgart\, 70182\, Deutschland
CATEGORIES:Öffentlich
END:VEVENT
BEGIN:VEVENT
DTSTART;TZID=Europe/Berlin:20250512T180000
DTEND;TZID=Europe/Berlin:20250512T200000
DTSTAMP:20260423T135602
CREATED:20250424T081318Z
LAST-MODIFIED:20250424T081356Z
UID:17245-1747072800-1747080000@stuttgarter-schriftstellerhaus.de
SUMMARY:Stuttgarter Schriftstellerhaus e.V. - Mitgliederversammlung
DESCRIPTION:
URL:https://stuttgarter-schriftstellerhaus.de/termin/stuttgarter-schriftstellerhaus-e-v-mitgliederversammlung-2/
LOCATION:Stuttgarter Schriftstellerhaus\, Kanalstraße 4\, Stuttgart\, 70182\, Deutschland
CATEGORIES:Öffentlich
END:VEVENT
BEGIN:VEVENT
DTSTART;TZID=Europe/Berlin:20250521T190000
DTEND;TZID=Europe/Berlin:20250521T210000
DTSTAMP:20260423T135602
CREATED:20250115T104526Z
LAST-MODIFIED:20250115T115533Z
UID:16894-1747854000-1747861200@stuttgarter-schriftstellerhaus.de
SUMMARY:AG Wortreich
DESCRIPTION:Im Oktober 2022 haben Mitglieder des Stuttgarter Schriftstellerhauses die Autor:innengruppe AG wortreich gegründet.\nIm Zentrum steht vor allem der intensive Austausch über die Arbeit an eigenen Prosatexten. Die Gruppe trifft sich jeden dritten Mittwoch im Monat um 19 Uhr im Schriftstellerhaus. Bewerber:innen stellen sich mit einem eigenen Prosatext vor\, die Gruppe entscheidet über eine Aufnahme.\nDie Mitgliedschaft im Schriftstellerhaus wird nach Beitritt zur Gruppe erwartet.\nBei Interesse melden Sie sich bitte bei Peter Schmidt (kunstmacher@t-online.de)
URL:https://stuttgarter-schriftstellerhaus.de/termin/ag-wortreich-23/
LOCATION:Stuttgarter Schriftstellerhaus\, Kanalstraße 4\, Stuttgart\, 70182\, Deutschland
CATEGORIES:Intern
END:VEVENT
BEGIN:VEVENT
DTSTART;TZID=Europe/Berlin:20250521T190000
DTEND;TZID=Europe/Berlin:20250521T210000
DTSTAMP:20260423T135602
CREATED:20250424T095050Z
LAST-MODIFIED:20250424T095349Z
UID:17258-1747854000-1747861200@stuttgarter-schriftstellerhaus.de
SUMMARY:Überleben hoch drei
DESCRIPTION:Überleben hoch drei. Veranstaltung mit Elfi Conrad\, Theres Essmann\, Grit Krüger\, Stadtbibliothek Stuttgart\n\n\nEine Veranstaltung der BücherFrauen und des Schriftstellerhauses \nStuttgarter Literaturfestival: Überleben hoch drei\nmit Elfi Conrad\, Theres Essmann und Grit Krüger\nModeration: Caroline Grafe
URL:https://stuttgarter-schriftstellerhaus.de/termin/ueberleben-hoch-drei/
LOCATION:Stadtbibliothek Stuttgart\, Mailänder Platz 1\, Stuttgart\, 70173\, Deutschland
CATEGORIES:Öffentlich
END:VEVENT
BEGIN:VEVENT
DTSTART;TZID=Europe/Berlin:20250523T180000
DTEND;TZID=Europe/Berlin:20250523T200000
DTSTAMP:20260423T135602
CREATED:20250424T081951Z
LAST-MODIFIED:20250424T081951Z
UID:17249-1748023200-1748030400@stuttgarter-schriftstellerhaus.de
SUMMARY:Schreibtisch
DESCRIPTION:Du bist jung und schreibst? – dann herzlich willkommen beim „Schreibtisch“\, dem Treff für Jungautor:innen im Raum Stuttgart. \nWir treffen uns wie immer freitags\, dieses Mal am 23. Mai 2025 ab 18:00 Uhr im Stuttgarter Schriftstellerhaus (Kanalstraße 4\, 70182 Stuttgart\, direkt am Charlottenplatz) und würden uns freuen\, wenn auch Du dabei bist. \nDu kannst gerne spontan vorbeischauen\, eine Anmeldung vorab ist nicht notwendig. Bei Fragen kannst du dich einfach per Mail an uns wenden: jsh@stuttgarter-schriftstellerhaus.de. \nDich erwarten: \n Austausch über Dein Kreatives Schreiben (Lyrik\, Prosa\,… – alles willkommen) und Literatur im Allgemeinen mit anderen Schreibenden zwischen 15 und 30 Jahre\n Eine entspannte Atmosphäre\n Tee\, Kaffee und kleine Snacks \nKlingt gut? Dann komm‘ gerne vorbei – Wir freuen uns schon darauf\, Dich kennenzulernen!
URL:https://stuttgarter-schriftstellerhaus.de/termin/schreibtisch-21/
LOCATION:Stuttgarter Schriftstellerhaus\, Kanalstraße 4\, Stuttgart\, 70182\, Deutschland
CATEGORIES:Öffentlich
END:VEVENT
BEGIN:VEVENT
DTSTART;TZID=Europe/Berlin:20250524T100000
DTEND;TZID=Europe/Berlin:20250524T170000
DTSTAMP:20260423T135602
CREATED:20250424T082508Z
LAST-MODIFIED:20250424T082508Z
UID:17253-1748080800-1748106000@stuttgarter-schriftstellerhaus.de
SUMMARY:Theres Essmann - Autofiktionales Schreiben
DESCRIPTION:Anhand von Anregungen aus der Literatur\, ausgehend von Material aus dem eigenen Lebensarchiv und im lebendigen Austausch in der Gruppe schreiben Sie über sich und Ihr Leben – über einzelne Phasen\, zentrale Figuren\, Lebensthemen\, Schlüsselereignisse oder auch den scheinbar beiläufigen Moment. Ob in Miniaturen oder im größeren Erzählbogen: Angeleitet entdecken Sie das Spannungsfeld aus Erinnerung und Fiktion\, die Wirkung bewusst eingesetzter Schreibtechniken und gestalteter Sprache. So erfahren Sie\, wie aus Erinnerungen Lebens-Geschichten werden\, die dem Erlebten Sinn verleihen und Sie und andere zu berühren vermögen. \nDie Gruppe ist aktuell ausgebucht.\nSie können sich aber auf die Warteliste setzen lassen.
URL:https://stuttgarter-schriftstellerhaus.de/termin/theres-essmann-autofiktionales-schreiben/
LOCATION:Stuttgarter Schriftstellerhaus\, Kanalstraße 4\, Stuttgart\, 70182\, Deutschland
CATEGORIES:Öffentlich
END:VEVENT
BEGIN:VEVENT
DTSTART;TZID=Europe/Berlin:20250525T100000
DTEND;TZID=Europe/Berlin:20250525T170000
DTSTAMP:20260423T135602
CREATED:20250424T082316Z
LAST-MODIFIED:20250424T082316Z
UID:17251-1748167200-1748192400@stuttgarter-schriftstellerhaus.de
SUMMARY:Theres Essmann - Literarisches Schreiben
DESCRIPTION:In diesen fortlaufenden Schreib- und Textwerkstätten wollen wir das eigene literarischen Schreiben (weiter-)entwickeln\, neue Schreiberfahrungen machen und dabei insbesondere die Resonanz der Gruppe miteinbeziehen.\nWir arbeiten an Kurzgeschichten\, Erzählungen\, Gedichten oder auch an größeren Schreib-Projekten. Dabei beschäftigen wir uns mit dem „Schreib-Handwerk“ (z.B. Erzählstimme\, Erzählperspektive\, Figurenzeichnung\, Dialogführung) und seinen Regeln genauso wie mit der Freiheit des Autors\, davon bewusst abzuweichen. Darüber hinaus wird Raum sein\, die Erfahrungen und Selbst-Begegnungen im eigenen Schreib-Prozess mit den anderen zu teilen.\nZwischen den Terminen arbeiten wir an Texten\, die ca. eine Woche vor dem darauffolgenden Termin zirkuliert und dann vor Ort gemeinsam lektoriert werden. \nDie Gruppen sind aktuell ausgebucht.\nSie können sich aber auf die Warteliste setzen lassen.
URL:https://stuttgarter-schriftstellerhaus.de/termin/theres-essmann-literarisches-schreiben/
LOCATION:Stuttgarter Schriftstellerhaus\, Kanalstraße 4\, Stuttgart\, 70182\, Deutschland
CATEGORIES:Öffentlich
END:VEVENT
END:VCALENDAR