BEGIN:VCALENDAR
VERSION:2.0
PRODID:-//Stuttgarter Schriftstellerhaus - ECPv6.15.20//NONSGML v1.0//EN
CALSCALE:GREGORIAN
METHOD:PUBLISH
X-WR-CALNAME:Stuttgarter Schriftstellerhaus
X-ORIGINAL-URL:https://stuttgarter-schriftstellerhaus.de
X-WR-CALDESC:Veranstaltungen für Stuttgarter Schriftstellerhaus
REFRESH-INTERVAL;VALUE=DURATION:PT1H
X-Robots-Tag:noindex
X-PUBLISHED-TTL:PT1H
BEGIN:VTIMEZONE
TZID:Europe/Berlin
BEGIN:DAYLIGHT
TZOFFSETFROM:+0100
TZOFFSETTO:+0200
TZNAME:CEST
DTSTART:20230326T010000
END:DAYLIGHT
BEGIN:STANDARD
TZOFFSETFROM:+0200
TZOFFSETTO:+0100
TZNAME:CET
DTSTART:20231029T010000
END:STANDARD
BEGIN:DAYLIGHT
TZOFFSETFROM:+0100
TZOFFSETTO:+0200
TZNAME:CEST
DTSTART:20240331T010000
END:DAYLIGHT
BEGIN:STANDARD
TZOFFSETFROM:+0200
TZOFFSETTO:+0100
TZNAME:CET
DTSTART:20241027T010000
END:STANDARD
BEGIN:DAYLIGHT
TZOFFSETFROM:+0100
TZOFFSETTO:+0200
TZNAME:CEST
DTSTART:20250330T010000
END:DAYLIGHT
BEGIN:STANDARD
TZOFFSETFROM:+0200
TZOFFSETTO:+0100
TZNAME:CET
DTSTART:20251026T010000
END:STANDARD
END:VTIMEZONE
BEGIN:VEVENT
DTSTART;TZID=Europe/Berlin:20240724T170000
DTEND;TZID=Europe/Berlin:20240724T190000
DTSTAMP:20260423T070811
CREATED:20240712T140140Z
LAST-MODIFIED:20240712T140211Z
UID:16349-1721840400-1721847600@stuttgarter-schriftstellerhaus.de
SUMMARY:Mitgliederversammlung Stuttgarter Schriftstellerhaus e.V.
DESCRIPTION:Wir laden alle Mitglieder des Vereins Stuttgarter Schriftstellerhaus e.V. zur ordentlichen Mitgliederversammlung 2024 ein. Sie wird am Mittwoch\, 24.7. um 17 Uhr im Hospitalhof stattfinden. Die Einladung mit der Tagesordnung wurde per Post verschickt. \nIm Anschluss daran werden die Mitglieder des Jungen Schriftstellerhauses um 19.30 Uhr ihre Jahresanthologie „Sprachnachricht zwanzigvierundzwanzig“ der Öffentlichkeit vorstellen. Wir freuen uns\, wenn auch viele unserer Mitglieder dabei sind!
URL:https://stuttgarter-schriftstellerhaus.de/termin/mitgliederversammlung-stuttgarter-schriftstellerhaus-e-v/
LOCATION:Hospitalhof Stuttgart\, Büchsenstraße 33\, Stuttgart\, 70174\, Deutschland
CATEGORIES:Intern
ORGANIZER;CN="Stuttgarter Schriftstellerhaus":MAILTO:info@stuttgarter-schriftstellerhaus.de
END:VEVENT
END:VCALENDAR